BEGIN:VCALENDAR
VERSION:2.0
PRODID:-//Ugarte - ECPv6.15.11//NONSGML v1.0//EN
CALSCALE:GREGORIAN
METHOD:PUBLISH
X-WR-CALNAME:Ugarte
X-ORIGINAL-URL:https://vinothek-ugarte.ch
X-WR-CALDESC:Veranstaltungen für Ugarte
REFRESH-INTERVAL;VALUE=DURATION:PT1H
X-Robots-Tag:noindex
X-PUBLISHED-TTL:PT1H
BEGIN:VTIMEZONE
TZID:Europe/Zurich
BEGIN:DAYLIGHT
TZOFFSETFROM:+0100
TZOFFSETTO:+0200
TZNAME:CEST
DTSTART:20240331T010000
END:DAYLIGHT
BEGIN:STANDARD
TZOFFSETFROM:+0200
TZOFFSETTO:+0100
TZNAME:CET
DTSTART:20241027T010000
END:STANDARD
BEGIN:DAYLIGHT
TZOFFSETFROM:+0100
TZOFFSETTO:+0200
TZNAME:CEST
DTSTART:20250330T010000
END:DAYLIGHT
BEGIN:STANDARD
TZOFFSETFROM:+0200
TZOFFSETTO:+0100
TZNAME:CET
DTSTART:20251026T010000
END:STANDARD
BEGIN:DAYLIGHT
TZOFFSETFROM:+0100
TZOFFSETTO:+0200
TZNAME:CEST
DTSTART:20260329T010000
END:DAYLIGHT
BEGIN:STANDARD
TZOFFSETFROM:+0200
TZOFFSETTO:+0100
TZNAME:CET
DTSTART:20261025T010000
END:STANDARD
BEGIN:DAYLIGHT
TZOFFSETFROM:+0100
TZOFFSETTO:+0200
TZNAME:CEST
DTSTART:20270328T010000
END:DAYLIGHT
BEGIN:STANDARD
TZOFFSETFROM:+0200
TZOFFSETTO:+0100
TZNAME:CET
DTSTART:20271031T010000
END:STANDARD
END:VTIMEZONE
BEGIN:VTIMEZONE
TZID:Europe/Berlin
BEGIN:DAYLIGHT
TZOFFSETFROM:+0100
TZOFFSETTO:+0200
TZNAME:CEST
DTSTART:20240331T010000
END:DAYLIGHT
BEGIN:STANDARD
TZOFFSETFROM:+0200
TZOFFSETTO:+0100
TZNAME:CET
DTSTART:20241027T010000
END:STANDARD
BEGIN:DAYLIGHT
TZOFFSETFROM:+0100
TZOFFSETTO:+0200
TZNAME:CEST
DTSTART:20250330T010000
END:DAYLIGHT
BEGIN:STANDARD
TZOFFSETFROM:+0200
TZOFFSETTO:+0100
TZNAME:CET
DTSTART:20251026T010000
END:STANDARD
BEGIN:DAYLIGHT
TZOFFSETFROM:+0100
TZOFFSETTO:+0200
TZNAME:CEST
DTSTART:20260329T010000
END:DAYLIGHT
BEGIN:STANDARD
TZOFFSETFROM:+0200
TZOFFSETTO:+0100
TZNAME:CET
DTSTART:20261025T010000
END:STANDARD
END:VTIMEZONE
BEGIN:VEVENT
DTSTART;TZID=Europe/Zurich:20260410T180000
DTEND;TZID=Europe/Zurich:20260410T230000
DTSTAMP:20260422T155050
CREATED:20251022T153827Z
LAST-MODIFIED:20260320T150220Z
UID:10000002-1775844000-1775862000@vinothek-ugarte.ch
SUMMARY:Negroni Andino
DESCRIPTION:Latin Vibes am Wollishofen – Ein Abend für Geniesser!\n \nTauche ein in eine Welt voller Rhythmus\, Geschmack und Leidenschaft: \nHeiße Latin Beats & entspannte Vibes \nExklusive Cocktails wie Pisco Sour\, Negroni Andino & Andean Gin Tonic \n Authentische peruanische Spezialitäten: Empanadas\, Causa Limeña & Suspiro de Palta \nOb du tanzen\, genießen oder einfach den Feierabend mit Stil ausklingen lassen willst – dieser Abend ist für echte Genussmenschen gemacht. \nSichere dir deinen Platz und erlebe Latin Flair!
URL:https://vinothek-ugarte.ch/event/negroni-andino/
LOCATION:UGARTE Wines&Spirits\, Seestrasse 328\, Zürich-Wollishofen\, 8038\, Switzerland
ATTACH;FMTTYPE=image/jpeg:https://vinothek-ugarte.ch/wp-content/uploads/2026/03/26_PiscoSour-Negroni-AndeanGin10.jpg
ORGANIZER;CN="Usam Wines&Spirits":MAILTO:info@ugarte.ch
END:VEVENT
BEGIN:VEVENT
DTSTART;TZID=Europe/Zurich:20260129T180000
DTEND;TZID=Europe/Zurich:20260129T230000
DTSTAMP:20260422T155050
CREATED:20251111T094128Z
LAST-MODIFIED:20260119T135716Z
UID:10000004-1769709600-1769727600@vinothek-ugarte.ch
SUMMARY:Chimichurri Salsa&Party
DESCRIPTION:https://vinothek-ugarte.ch/wp-content/uploads/2025/11/VID-20260119-WA0022.mp4\n  \nErleben Salsa\, Genuss & südamerikanische Lebensfreude – diesen Donnerstag in der Ugarte Vinothek Zürich \nErleben Sie einen Abend voller Rhythmus\, Geschmack und Herzlichkeit! \nAb 19:00 Uhr laden wir Sie herzlich ein zu einem kostenlosen Salsa-Crashkurs  – ideal für Einsteiger und Tanzliebhaber. \nAnschließend entführen wir Sie kulinarisch nach Südamerika:\n„Chimichurri & Peru pur“ – feine argentinische und peruanische Spezialitäten\, begleitet von ausgewählten Weinen und dem klassischen Pisco Sour. \nTauchen Sie ein in ein sinnliches Erlebnis aus Musik\, Bewegung und Genuss.\n Jetzt Platz sichern und den Geschmack Südamerikas entdecken – authentisch\, frisch und unvergesslich!
URL:https://vinothek-ugarte.ch/event/chimichurri-salsaparty/
LOCATION:UGARTE Wines&Spirits\, Seestrasse 328\, Zürich-Wollishofen\, 8038\, Switzerland
ATTACH;FMTTYPE=image/jpeg:https://vinothek-ugarte.ch/wp-content/uploads/2025/11/Chimichurri-event-29-01-262.jpg
ORGANIZER;CN="Usam Wines&Spirits":MAILTO:info@ugarte.ch
END:VEVENT
BEGIN:VEVENT
DTSTART;TZID=Europe/Berlin:20251124T190000
DTEND;TZID=Europe/Berlin:20251124T220000
DTSTAMP:20260422T155050
CREATED:20251022T143324Z
LAST-MODIFIED:20251119T132112Z
UID:10000001-1764010800-1764021600@vinothek-ugarte.ch
SUMMARY:Shaking your Pisco Sour
DESCRIPTION:Kickoff with the Iconic Pisco Sour \nEs freut uns\, Ihnen unseren exklusiven Meisterkurs zum Thema Pisco Sour und weitere peruanische Cocktails anzubieten. Tauchen Sie ein in die faszinierende Welt der peruanischen Mixologie und genießen Sie zu jedem Cocktail den passenden Apero Riche\, der Ihr Geschmackserlebnis perfekt abrundet. Sichern Sie sich Ihren Platz für dieses einmalige Erlebnis.
URL:https://vinothek-ugarte.ch/event/shaking-your-pisco-sour/
LOCATION:UGARTE Wines&Spirits\, Seestrasse 328\, Zürich-Wollishofen\, 8038\, Switzerland
ATTACH;FMTTYPE=image/jpeg:https://vinothek-ugarte.ch/wp-content/uploads/2025/10/Shaking-your-Pisco-Sour-11-1-1.jpg
ORGANIZER;CN="Usam Wines&Spirits":MAILTO:info@ugarte.ch
END:VEVENT
BEGIN:VEVENT
DTSTART;TZID=Europe/Zurich:20251108T150000
DTEND;TZID=Europe/Zurich:20251108T230000
DTSTAMP:20260422T155050
CREATED:20251022T155415Z
LAST-MODIFIED:20251025T144405Z
UID:10000003-1762614000-1762642800@vinothek-ugarte.ch
SUMMARY:Chimichurri & Peruvian Food
DESCRIPTION:Südamerikas Geschmack – Chimichurri & Peru pur! \nErlebe das Event – Jetzt Deinen Platz Sichern! \nTauche ein in ein kulinarisches Abenteuer\, bei dem Argentinisches Chimichurri und Peruanische Spezialitäten aufeinander treffen. Genieße natürliche Köstlichkeiten ohne Kompromisse\, begleitet von erlesenen Weinen und dem klassischen Pisco Sour. Besuche uns in Zürich und entdecke\, wie unverfälscht und köstlich authentische Küche sein kann.
URL:https://vinothek-ugarte.ch/event/chimichurri/
LOCATION:UGARTE Wines&Spirits\, Seestrasse 328\, Zürich-Wollishofen\, 8038\, Switzerland
ATTACH;FMTTYPE=image/jpeg:https://vinothek-ugarte.ch/wp-content/uploads/2025/10/Chimichurri-event.jpg
ORGANIZER;CN="Usam Wines&Spirits":MAILTO:info@ugarte.ch
END:VEVENT
END:VCALENDAR